BEGIN:VCALENDAR
VERSION:2.0
PRODID:-//GlenEagles Community Association - ECPv6.15.20//NONSGML v1.0//EN
CALSCALE:GREGORIAN
METHOD:PUBLISH
X-WR-CALNAME:GlenEagles Community Association
X-ORIGINAL-URL:https://geca.ca
X-WR-CALDESC:Events for GlenEagles Community Association
REFRESH-INTERVAL;VALUE=DURATION:PT1H
X-Robots-Tag:noindex
X-PUBLISHED-TTL:PT1H
BEGIN:VTIMEZONE
TZID:America/Edmonton
BEGIN:DAYLIGHT
TZOFFSETFROM:-0700
TZOFFSETTO:-0600
TZNAME:MDT
DTSTART:20240310T090000
END:DAYLIGHT
BEGIN:STANDARD
TZOFFSETFROM:-0600
TZOFFSETTO:-0700
TZNAME:MST
DTSTART:20241103T080000
END:STANDARD
BEGIN:DAYLIGHT
TZOFFSETFROM:-0700
TZOFFSETTO:-0600
TZNAME:MDT
DTSTART:20250309T090000
END:DAYLIGHT
BEGIN:STANDARD
TZOFFSETFROM:-0600
TZOFFSETTO:-0700
TZNAME:MST
DTSTART:20251102T080000
END:STANDARD
BEGIN:DAYLIGHT
TZOFFSETFROM:-0700
TZOFFSETTO:-0600
TZNAME:MDT
DTSTART:20260308T090000
END:DAYLIGHT
BEGIN:STANDARD
TZOFFSETFROM:-0600
TZOFFSETTO:-0700
TZNAME:MST
DTSTART:20261101T080000
END:STANDARD
END:VTIMEZONE
BEGIN:VEVENT
DTSTART;TZID=America/Edmonton:20250430T080000
DTEND;TZID=America/Edmonton:20250430T160000
DTSTAMP:20260421T090209
CREATED:20250115T202648Z
LAST-MODIFIED:20250115T202648Z
UID:1593-1746000000-1746028800@geca.ca
SUMMARY:Last Day to Pay GECA Fee before Administrative Charge
DESCRIPTION:Please pay your GECA Fee by April 30\, 2025 to avoid the additional $50 administration fee.
URL:https://geca.ca/event/last-day-to-pay-geca-fee-before-administrative-charge/
ATTACH;FMTTYPE=image/jpeg:https://geca.ca/wp-content/uploads/2023/12/IMG_0351-1.jpg
END:VEVENT
END:VCALENDAR