BEGIN:VCALENDAR
VERSION:2.0
PRODID:-//GlenEagles Community Association - ECPv6.15.20//NONSGML v1.0//EN
CALSCALE:GREGORIAN
METHOD:PUBLISH
X-ORIGINAL-URL:https://geca.ca
X-WR-CALDESC:Events for GlenEagles Community Association
REFRESH-INTERVAL;VALUE=DURATION:PT1H
X-Robots-Tag:noindex
X-PUBLISHED-TTL:PT1H
BEGIN:VTIMEZONE
TZID:America/Edmonton
BEGIN:DAYLIGHT
TZOFFSETFROM:-0700
TZOFFSETTO:-0600
TZNAME:MDT
DTSTART:20240310T090000
END:DAYLIGHT
BEGIN:STANDARD
TZOFFSETFROM:-0600
TZOFFSETTO:-0700
TZNAME:MST
DTSTART:20241103T080000
END:STANDARD
BEGIN:DAYLIGHT
TZOFFSETFROM:-0700
TZOFFSETTO:-0600
TZNAME:MDT
DTSTART:20250309T090000
END:DAYLIGHT
BEGIN:STANDARD
TZOFFSETFROM:-0600
TZOFFSETTO:-0700
TZNAME:MST
DTSTART:20251102T080000
END:STANDARD
BEGIN:DAYLIGHT
TZOFFSETFROM:-0700
TZOFFSETTO:-0600
TZNAME:MDT
DTSTART:20260308T090000
END:DAYLIGHT
BEGIN:STANDARD
TZOFFSETFROM:-0600
TZOFFSETTO:-0700
TZNAME:MST
DTSTART:20261101T080000
END:STANDARD
END:VTIMEZONE
BEGIN:VEVENT
DTSTART;TZID=America/Edmonton:20250625T170000
DTEND;TZID=America/Edmonton:20250625T190000
DTSTAMP:20260421T135826
CREATED:20250617T183554Z
LAST-MODIFIED:20250617T183554Z
UID:1730-1750870800-1750878000@geca.ca
SUMMARY:Last Day of School Ice Cream and Pizza
DESCRIPTION:Hi Neighbours!\n\n\nCan you believe the last day of school is almost here? Our kids will be out and about at the parks again soon—and it got me thinking: I’d really love to meet more of the neighbours my kids are always playing with!\n\n\nMany Cochrane neighbourhoods host food truck parties\, so I thought—why not us? I’ve organized a pizza and ice cream truck at Terrace Park (by the mailboxes) for the last day of school!\n\n\nCome out\, meet your neighbours\, and kick off summer together. And let’s be honest—if you’re anything like me\, you probably don’t want to cook dinner that night anyway. So grab a pizza\, treat yourself (and the kids) to some ice cream\, and let’s celebrate the start of summer!\n\n\nHope to see you there!\n\n\n– Jacquelyn\n\n  \n  \n 
URL:https://geca.ca/event/last-day-of-school-ice-cream-and-pizza/
END:VEVENT
END:VCALENDAR